BEGIN:VCALENDAR
VERSION:2.0
PRODID:-//Bay Area Dancers - ECPv4.9.3.2//NONSGML v1.0//EN
CALSCALE:GREGORIAN
METHOD:PUBLISH
X-WR-CALNAME:Bay Area Dancers
X-ORIGINAL-URL:http://bayareadancers.org
X-WR-CALDESC:Events for Bay Area Dancers
BEGIN:VEVENT
DTSTART;TZID=UTC-8:20191013T150000
DTEND;TZID=UTC-8:20191013T170000
DTSTAMP:20260422T141321
CREATED:20191009T065027Z
LAST-MODIFIED:20191009T065027Z
UID:876-1570978800-1570986000@bayareadancers.org
SUMMARY:Cold Little Heart
DESCRIPTION:BCB 3-5pm w/ Kayla \n
URL:http://bayareadancers.org/event/cold-little-heart/
LOCATION:Berkeley City Ballet\, 1800 Dwight Way\, Berkeley\, CA\, 94703\, United States
ORGANIZER;CN="Bay%20Area%20Dancers":MAILTO:info@bayareadancers.org
END:VEVENT
END:VCALENDAR