BEGIN:VCALENDAR
VERSION:2.0
PRODID:-//Bay Area Dancers - ECPv4.9.3.2//NONSGML v1.0//EN
CALSCALE:GREGORIAN
METHOD:PUBLISH
X-WR-CALNAME:Bay Area Dancers
X-ORIGINAL-URL:http://bayareadancers.org
X-WR-CALDESC:Events for Bay Area Dancers
BEGIN:VEVENT
DTSTART;TZID=UTC-7:20171129T190000
DTEND;TZID=UTC-7:20171129T203000
DTSTAMP:20260425T102325
CREATED:20171002T044935Z
LAST-MODIFIED:20171002T053226Z
UID:414-1511982000-1511987400@bayareadancers.org
SUMMARY:The Dark Side
DESCRIPTION:Jazz/Hip Hop piece with Renica! \nWednesdays 7-8:30pm \n
URL:http://bayareadancers.org/event/the-dark-side-8/
LOCATION:Berkeley City Ballet\, 1800 Dwight Way\, Berkeley\, CA\, 94703\, United States
CATEGORIES:Calendar
ORGANIZER;CN="Bay%20Area%20Dancers":MAILTO:info@bayareadancers.org
END:VEVENT
END:VCALENDAR