BEGIN:VCALENDAR
VERSION:2.0
PRODID:-//Bay Area Dancers - ECPv4.9.3.2//NONSGML v1.0//EN
CALSCALE:GREGORIAN
METHOD:PUBLISH
X-WR-CALNAME:Bay Area Dancers
X-ORIGINAL-URL:http://bayareadancers.org
X-WR-CALDESC:Events for Bay Area Dancers
BEGIN:VEVENT
DTSTART;TZID=UTC-7:20180228T190000
DTEND;TZID=UTC-7:20180228T203000
DTSTAMP:20260423T161611
CREATED:20171002T055136Z
LAST-MODIFIED:20171002T055136Z
UID:468-1519844400-1519849800@bayareadancers.org
SUMMARY:Somos
DESCRIPTION:Contemporary Fusion with Vicky \nWednesdays 7-830pm \n
URL:http://bayareadancers.org/event/somos-9/
LOCATION:Berkeley City Ballet\, 1800 Dwight Way\, Berkeley\, CA\, 94703\, United States
ORGANIZER;CN="Bay%20Area%20Dancers":MAILTO:info@bayareadancers.org
END:VEVENT
END:VCALENDAR