BEGIN:VCALENDAR
VERSION:2.0
PRODID:-//Bay Area Dancers - ECPv4.9.3.2//NONSGML v1.0//EN
CALSCALE:GREGORIAN
METHOD:PUBLISH
X-WR-CALNAME:Bay Area Dancers
X-ORIGINAL-URL:http://bayareadancers.org
X-WR-CALDESC:Events for Bay Area Dancers
BEGIN:VEVENT
DTSTART;TZID=UTC-8:20180429T103000
DTEND;TZID=UTC-8:20180429T120000
DTSTAMP:20260420T072715
CREATED:20171002T060952Z
LAST-MODIFIED:20171002T060952Z
UID:500-1524997800-1525003200@bayareadancers.org
SUMMARY:Rangeelo maro dholna
DESCRIPTION:Bollywood with Trishna \nSundays 1030am-1200pm \n
URL:http://bayareadancers.org/event/rangeelo-maro-dholna-12/
LOCATION:Berkeley City Ballet\, 1800 Dwight Way\, Berkeley\, CA\, 94703\, United States
ORGANIZER;CN="Bay%20Area%20Dancers":MAILTO:info@bayareadancers.org
END:VEVENT
END:VCALENDAR