BEGIN:VCALENDAR
VERSION:2.0
PRODID:-//Bay Area Dancers - ECPv4.9.3.2//NONSGML v1.0//EN
CALSCALE:GREGORIAN
METHOD:PUBLISH
X-WR-CALNAME:Bay Area Dancers
X-ORIGINAL-URL:http://bayareadancers.org
X-WR-CALDESC:Events for Bay Area Dancers
BEGIN:VEVENT
DTSTART;TZID=UTC-8:20180418T190000
DTEND;TZID=UTC-8:20180418T203000
DTSTAMP:20260420T121656
CREATED:20171002T060015Z
LAST-MODIFIED:20171002T060015Z
UID:482-1524078000-1524083400@bayareadancers.org
SUMMARY:One Way or Another
DESCRIPTION:Modern with Sara \nWednesday 7-830pm \n
URL:http://bayareadancers.org/event/one-way-another-7/
LOCATION:Berkeley City Ballet\, 1800 Dwight Way\, Berkeley\, CA\, 94703\, United States
ORGANIZER;CN="Bay%20Area%20Dancers":MAILTO:info@bayareadancers.org
END:VEVENT
END:VCALENDAR