BEGIN:VCALENDAR
VERSION:2.0
PRODID:-//Bay Area Dancers - ECPv4.9.3.2//NONSGML v1.0//EN
CALSCALE:GREGORIAN
METHOD:PUBLISH
X-WR-CALNAME:Bay Area Dancers
X-ORIGINAL-URL:http://bayareadancers.org
X-WR-CALDESC:Events for Bay Area Dancers
BEGIN:VEVENT
DTSTART;TZID=UTC-8:20181014T130000
DTEND;TZID=UTC-8:20181014T143000
DTSTAMP:20260419T135826
CREATED:20180924T030944Z
LAST-MODIFIED:20180924T030944Z
UID:555-1539522000-1539527400@bayareadancers.org
SUMMARY:Mad Rehearsal
DESCRIPTION:Sundays 1-2:30pm\nChoreographer Vanessa\n@ Berkeley City Ballet \n
URL:http://bayareadancers.org/event/mad-rehearsal-2/
LOCATION:Berkeley City Ballet\, 1800 Dwight Way\, Berkeley\, CA\, 94703\, United States
ORGANIZER;CN="Bay%20Area%20Dancers":MAILTO:info@bayareadancers.org
END:VEVENT
END:VCALENDAR