BEGIN:VCALENDAR
VERSION:2.0
PRODID:-//Bay Area Dancers - ECPv4.9.3.2//NONSGML v1.0//EN
CALSCALE:GREGORIAN
METHOD:PUBLISH
X-WR-CALNAME:Bay Area Dancers
X-ORIGINAL-URL:http://bayareadancers.org
X-WR-CALDESC:Events for Bay Area Dancers
BEGIN:VEVENT
DTSTART;TZID=UTC-7:20180121T100000
DTEND;TZID=UTC-7:20180121T120000
DTSTAMP:20260424T080105
CREATED:20171002T053844Z
LAST-MODIFIED:20171002T061823Z
UID:444-1516528800-1516536000@bayareadancers.org
SUMMARY:I Want You
DESCRIPTION:Tap with Alicia \nSundays 10am-12pm \n
URL:http://bayareadancers.org/event/i-want-you-3/
LOCATION:Berkeley City Ballet\, 1800 Dwight Way\, Berkeley\, CA\, 94703\, United States
ORGANIZER;CN="Bay%20Area%20Dancers":MAILTO:info@bayareadancers.org
END:VEVENT
END:VCALENDAR