BEGIN:VCALENDAR
VERSION:2.0
PRODID:-//Bay Area Dancers - ECPv4.9.3.2//NONSGML v1.0//EN
CALSCALE:GREGORIAN
METHOD:PUBLISH
X-WR-CALNAME:Bay Area Dancers
X-ORIGINAL-URL:http://bayareadancers.org
X-WR-CALDESC:Events for Bay Area Dancers
BEGIN:VEVENT
DTSTART;TZID=UTC-7:20180114T100000
DTEND;TZID=UTC-7:20180114T120000
DTSTAMP:20260424T093148
CREATED:20171002T053754Z
LAST-MODIFIED:20171002T061728Z
UID:442-1515924000-1515931200@bayareadancers.org
SUMMARY:I Want You
DESCRIPTION:Tap with Alicia \nSundays 10am-12pm \n
URL:http://bayareadancers.org/event/i-want-you-2/
LOCATION:Berkeley City Ballet\, 1800 Dwight Way\, Berkeley\, CA\, 94703\, United States
ORGANIZER;CN="Bay%20Area%20Dancers":MAILTO:info@bayareadancers.org
END:VEVENT
END:VCALENDAR