BEGIN:VCALENDAR
VERSION:2.0
PRODID:-//Bay Area Dancers - ECPv4.9.3.2//NONSGML v1.0//EN
CALSCALE:GREGORIAN
METHOD:PUBLISH
X-WR-CALNAME:Bay Area Dancers
X-ORIGINAL-URL:http://bayareadancers.org
X-WR-CALDESC:Events for Bay Area Dancers
BEGIN:VEVENT
DTSTART;TZID=UTC-8:20180506T100000
DTEND;TZID=UTC-8:20180506T160000
DTSTAMP:20260420T073235
CREATED:20171002T061056Z
LAST-MODIFIED:20171002T061056Z
UID:502-1525600800-1525622400@bayareadancers.org
SUMMARY:Dress Rehearsal
DESCRIPTION:All pieces\, in costume \n10am-4pm \n
URL:http://bayareadancers.org/event/dress-rehearsal-2/
LOCATION:Berkeley City Ballet\, 1800 Dwight Way\, Berkeley\, CA\, 94703\, United States
ORGANIZER;CN="Bay%20Area%20Dancers":MAILTO:info@bayareadancers.org
END:VEVENT
END:VCALENDAR