BEGIN:VCALENDAR
VERSION:2.0
PRODID:-//Bay Area Dancers - ECPv4.9.3.2//NONSGML v1.0//EN
CALSCALE:GREGORIAN
METHOD:PUBLISH
X-WR-CALNAME:Bay Area Dancers
X-ORIGINAL-URL:http://bayareadancers.org
X-WR-CALDESC:Events for Bay Area Dancers
BEGIN:VEVENT
DTSTART;TZID=UTC-7:20171105T103000
DTEND;TZID=UTC-7:20171105T120000
DTSTAMP:20260425T184330
CREATED:20171002T051329Z
LAST-MODIFIED:20171002T052913Z
UID:420-1509877800-1509883200@bayareadancers.org
SUMMARY:Concrete Wall
DESCRIPTION:Concrete Wall \nTap with Francesca \n1030am-1200pm \n
URL:http://bayareadancers.org/event/concrete-wall-3/
LOCATION:Berkeley City Ballet\, 1800 Dwight Way\, Berkeley\, CA\, 94703\, United States
ORGANIZER;CN="Bay%20Area%20Dancers":MAILTO:info@bayareadancers.org
END:VEVENT
END:VCALENDAR