BEGIN:VCALENDAR
VERSION:2.0
PRODID:-//Bay Area Dancers - ECPv4.9.3.2//NONSGML v1.0//EN
CALSCALE:GREGORIAN
METHOD:PUBLISH
X-WR-CALNAME:Bay Area Dancers
X-ORIGINAL-URL:http://bayareadancers.org
X-WR-CALDESC:Events for Bay Area Dancers
BEGIN:VEVENT
DTSTART;TZID=UTC-8:20171022T103000
DTEND;TZID=UTC-8:20171022T120000
DTSTAMP:20260425T215911
CREATED:20171002T051208Z
LAST-MODIFIED:20171002T051208Z
UID:418-1508668200-1508673600@bayareadancers.org
SUMMARY:Concrete Wall
DESCRIPTION:Concrete Wall \nTap with Francesca \nSundays 1030am-1200pm \n
URL:http://bayareadancers.org/event/concrete-wall-2/
LOCATION:Berkeley City Ballet\, 1800 Dwight Way\, Berkeley\, CA\, 94703\, United States
ORGANIZER;CN="Bay%20Area%20Dancers":MAILTO:info@bayareadancers.org
END:VEVENT
END:VCALENDAR