BEGIN:VCALENDAR
VERSION:2.0
PRODID:-//Bay Area Dancers - ECPv4.9.3.2//NONSGML v1.0//EN
CALSCALE:GREGORIAN
METHOD:PUBLISH
X-WR-CALNAME:Bay Area Dancers
X-ORIGINAL-URL:http://bayareadancers.org
X-WR-CALDESC:Events for Bay Area Dancers
BEGIN:VEVENT
DTSTART;TZID=UTC-7:20190505T113000
DTEND;TZID=UTC-7:20190505T130000
DTSTAMP:20260425T145732
CREATED:20190408T063051Z
LAST-MODIFIED:20190408T063051Z
UID:820-1557055800-1557061200@bayareadancers.org
SUMMARY:Boyz/BoP
DESCRIPTION:11:30-1\nBCB \n
URL:http://bayareadancers.org/event/boyzbop/
LOCATION:Berkeley City Ballet\, 1800 Dwight Way\, Berkeley\, CA\, 94703\, United States
END:VEVENT
END:VCALENDAR