BEGIN:VCALENDAR
VERSION:2.0
PRODID:-//Bay Area Dancers - ECPv4.9.3.2//NONSGML v1.0//EN
CALSCALE:GREGORIAN
METHOD:PUBLISH
X-WR-CALNAME:Bay Area Dancers
X-ORIGINAL-URL:http://bayareadancers.org
X-WR-CALDESC:Events for Bay Area Dancers
BEGIN:VEVENT
DTSTART;TZID=UTC-8:20181007T143000
DTEND;TZID=UTC-8:20181007T160000
DTSTAMP:20260419T170737
CREATED:20180921T060846Z
LAST-MODIFIED:20180924T031946Z
UID:552-1538922600-1538928000@bayareadancers.org
SUMMARY:Beat of Passion + Boyz Rehearsal
DESCRIPTION:230-4pm\nBerkeley City Ballet\nBeat of Passion + Boyz\nChoreographer: Trishna \n
URL:http://bayareadancers.org/event/beat-passion-rehearsal/
LOCATION:Berkeley City Ballet\, 1800 Dwight Way\, Berkeley\, CA\, 94703\, United States
ORGANIZER;CN="Bay%20Area%20Dancers":MAILTO:info@bayareadancers.org
END:VEVENT
END:VCALENDAR