BEGIN:VCALENDAR
VERSION:2.0
PRODID:-//Bay Area Dancers - ECPv4.9.3.2//NONSGML v1.0//EN
CALSCALE:GREGORIAN
METHOD:PUBLISH
X-WR-CALNAME:Bay Area Dancers
X-ORIGINAL-URL:http://bayareadancers.org
X-WR-CALDESC:Events for Bay Area Dancers
BEGIN:VEVENT
DTSTART;TZID=UTC-7:20180301T190000
DTEND;TZID=UTC-7:20180301T230000
DTSTAMP:20260423T144949
CREATED:20180219T050757Z
LAST-MODIFIED:20180219T050757Z
UID:509-1519930800-1519945200@bayareadancers.org
SUMMARY:BAD Performance at SJ Live!
DESCRIPTION:Bay Area Dancers has been selected to perform with RAW Artists at SJ Live. \nGet your tickets here! The event is expected to sell out fast. \nBAD featured with RAW Artists San Jose showcase. \n
URL:http://bayareadancers.org/event/bad-performance-sj-live/
LOCATION:San Jose Live\, 8 South 1st Street\, San Jose\, CA\, 95113\, United States
END:VEVENT
END:VCALENDAR