BEGIN:VCALENDAR
VERSION:2.0
PRODID:-//Bay Area Dancers - ECPv4.9.3.2//NONSGML v1.0//EN
CALSCALE:GREGORIAN
METHOD:PUBLISH
X-WR-CALNAME:Bay Area Dancers
X-ORIGINAL-URL:http://bayareadancers.org
X-WR-CALDESC:Events for Bay Area Dancers
BEGIN:VEVENT
DTSTART;TZID=UTC-7:20180324T143000
DTEND;TZID=UTC-7:20180324T170000
DTSTAMP:20260421T015602
CREATED:20180219T051035Z
LAST-MODIFIED:20180308T064530Z
UID:514-1521901800-1521910800@bayareadancers.org
SUMMARY:BAD community outreach The Sequoias San Francisco
DESCRIPTION:Bay Area Dancers will be performing for the retirement community of The Sequoias San Francisco. \nFree Event! \nShow starts at 4pm \n  \n(Dancers arrive 2:30\, rehearsal 3pm) \n
URL:http://bayareadancers.org/event/bad-community-outreach-sequoias-san-francisco/
LOCATION:The Sequoias San Francisco\, 1400 Geary Blvd\, San Francisco\, CA\, 94109\, United States
ORGANIZER;CN="Bay%20Area%20Dancers":MAILTO:info@bayareadancers.org
END:VEVENT
END:VCALENDAR